BEGIN:VCALENDAR
VERSION:2.0
PRODID:-//Shenzhen Institute of Advanced Technology, Chinese Academy of Sciences - ECPv5.9.0//NONSGML v1.0//EN
CALSCALE:GREGORIAN
METHOD:PUBLISH
X-WR-CALNAME:Shenzhen Institute of Advanced Technology, Chinese Academy of Sciences
X-ORIGINAL-URL:https://siat-sz.edu.cn
X-WR-CALDESC:Events for Shenzhen Institute of Advanced Technology, Chinese Academy of Sciences
BEGIN:VTIMEZONE
TZID:UTC
BEGIN:STANDARD
TZOFFSETFROM:+0000
TZOFFSETTO:+0000
TZNAME:UTC
DTSTART:2023-01-06 13:51:470101T000000
END:STANDARD
END:VTIMEZONE
BEGIN:VEVENT
DTSTART;TZID=UTC:20230106T055147
DTEND;TZID=UTC:DTSTAMP:20260426T004932Z
CREATED:20230106T000000Z
LAST-MODIFIED:20250728T113054Z
UID:77658E75-EB55-431E-9F79-D3E5437725D9@www.xaqj
SUMMARY:Open Lecture | Versatile manufacturing through cell-material feedback
DESCRIPTION:Versatile manufacturing through cell-material feedback
Speaker: Prof. Zhuojun Dai
Time：14:00, January 6, 2023
Tencent Meeting: 644-943-532
Venue：A801，Gaoke Innovation Center, Guangming
Host: Lang Rao (Junior Principal Investigator)

URL:https://en.szbl.ac.cn/info/1017/2164.htm
LOCATION:
ATTACH;FMTTYPE=image/jpeg:https://en.szbl.ac.cn/__local/B/CD/8E/26243082EE6D60B29C38B835461_EC91ACF5_89BD9.png?e=.png
END:VEVENT
END:VCALENDAR